BEGIN:VCALENDAR
PRODID:-//eluceo/ical//2.0/EN
VERSION:2.0
CALSCALE:GREGORIAN
BEGIN:VEVENT
UID:ece02bf1f62a89d4c5937d6bc0021f52
DTSTAMP:20260425T234914Z
SUMMARY:Legendy Alysie
DTSTART;TZID=Europe/Prague:20260503T133000
DTEND;TZID=Europe/Prague:20260503T150300
LOCATION:Bio Central
END:VEVENT
END:VCALENDAR
BEGIN:VCALENDAR
PRODID:-//eluceo/ical//2.0/EN
VERSION:2.0
CALSCALE:GREGORIAN
BEGIN:VEVENT
UID:3d0b49cd523507d0b729382e58196f86
DTSTAMP:20260425T234914Z
SUMMARY:Legendy Alysie
DTSTART;TZID=Europe/Prague:20260503T133000
DTEND;TZID=Europe/Prague:20260503T150300
LOCATION:Bio Central
END:VEVENT
END:VCALENDAR
