BEGIN:VCALENDAR
PRODID:-//eluceo/ical//2.0/EN
VERSION:2.0
CALSCALE:GREGORIAN
BEGIN:VEVENT
UID:f8aa053fb4afb9e7e8c70bd2d31dd9ea
DTSTAMP:20260423T193305Z
SUMMARY:Neděle
DTSTART;TZID=Europe/Prague:20260430T180000
DTEND;TZID=Europe/Prague:20260430T195500
LOCATION:Bio Central
END:VEVENT
END:VCALENDAR
BEGIN:VCALENDAR
PRODID:-//eluceo/ical//2.0/EN
VERSION:2.0
CALSCALE:GREGORIAN
BEGIN:VEVENT
UID:180aa34a7e53e2f438c6bdb45edffcc4
DTSTAMP:20260423T193305Z
SUMMARY:Neděle
DTSTART;TZID=Europe/Prague:20260430T180000
DTEND;TZID=Europe/Prague:20260430T195500
LOCATION:Bio Central
END:VEVENT
END:VCALENDAR
