BEGIN:VCALENDAR
PRODID:-//eluceo/ical//2.0/EN
VERSION:2.0
CALSCALE:GREGORIAN
BEGIN:VEVENT
UID:5d29cf4c3124e673c5ed36e97c855619
DTSTAMP:20260420T183833Z
SUMMARY:Rally: Od Paříže k pyramidám
DTSTART;TZID=Europe/Prague:20260425T133000
DTEND;TZID=Europe/Prague:20260425T145200
LOCATION:Bio Central
END:VEVENT
END:VCALENDAR
BEGIN:VCALENDAR
PRODID:-//eluceo/ical//2.0/EN
VERSION:2.0
CALSCALE:GREGORIAN
BEGIN:VEVENT
UID:1574c293e7fa5c1964c80fecfb23c2cf
DTSTAMP:20260420T183833Z
SUMMARY:Rally: Od Paříže k pyramidám
DTSTART;TZID=Europe/Prague:20260425T133000
DTEND;TZID=Europe/Prague:20260425T145200
LOCATION:Bio Central
END:VEVENT
END:VCALENDAR
