BEGIN:VCALENDAR
PRODID:-//eluceo/ical//2.0/EN
VERSION:2.0
CALSCALE:GREGORIAN
BEGIN:VEVENT
UID:57882b783ee6c70107be25c29788c1a4
DTSTAMP:20260420T184205Z
SUMMARY:Kdybych měla nohy\, tak ti nakopu
DTSTART;TZID=Europe/Prague:20260423T203000
DTEND;TZID=Europe/Prague:20260423T222300
LOCATION:Bio Central
END:VEVENT
END:VCALENDAR
BEGIN:VCALENDAR
PRODID:-//eluceo/ical//2.0/EN
VERSION:2.0
CALSCALE:GREGORIAN
BEGIN:VEVENT
UID:53241588926e985f2dbe9a5c9ddb608c
DTSTAMP:20260420T184205Z
SUMMARY:Kdybych měla nohy\, tak ti nakopu
DTSTART;TZID=Europe/Prague:20260423T203000
DTEND;TZID=Europe/Prague:20260423T222300
LOCATION:Bio Central
END:VEVENT
END:VCALENDAR
