BEGIN:VCALENDAR
PRODID:-//eluceo/ical//2.0/EN
VERSION:2.0
CALSCALE:GREGORIAN
BEGIN:VEVENT
UID:72269a7cf64e01af467a33923e28d6cb
DTSTAMP:20260422T150559Z
SUMMARY:Šťastná hvězda
DTSTART;TZID=Europe/Prague:20260508T140000
DTEND;TZID=Europe/Prague:20260508T154200
LOCATION:Bio Central
END:VEVENT
END:VCALENDAR
BEGIN:VCALENDAR
PRODID:-//eluceo/ical//2.0/EN
VERSION:2.0
CALSCALE:GREGORIAN
BEGIN:VEVENT
UID:0b9830378c468f4d002d868e010228ae
DTSTAMP:20260422T150559Z
SUMMARY:Šťastná hvězda
DTSTART;TZID=Europe/Prague:20260508T140000
DTEND;TZID=Europe/Prague:20260508T154200
LOCATION:Bio Central
END:VEVENT
END:VCALENDAR
