BEGIN:VCALENDAR
PRODID:-//eluceo/ical//2.0/EN
VERSION:2.0
CALSCALE:GREGORIAN
BEGIN:VEVENT
UID:7724b776d87cb7e893318bd985f8bc2b
DTSTAMP:20260425T230214Z
SUMMARY:Filmový kvíz
DTSTART;TZID=Europe/Prague:20260512T183000
DTEND;TZID=Europe/Prague:20260512T200000
LOCATION:Bio Central
END:VEVENT
END:VCALENDAR
BEGIN:VCALENDAR
PRODID:-//eluceo/ical//2.0/EN
VERSION:2.0
CALSCALE:GREGORIAN
BEGIN:VEVENT
UID:9d37ff81bb5104710fa0e14fa9783e46
DTSTAMP:20260425T230214Z
SUMMARY:Filmový kvíz
DTSTART;TZID=Europe/Prague:20260512T183000
DTEND;TZID=Europe/Prague:20260512T200000
LOCATION:Bio Central
END:VEVENT
END:VCALENDAR
