BEGIN:VCALENDAR
PRODID:-//eluceo/ical//2.0/EN
VERSION:2.0
CALSCALE:GREGORIAN
BEGIN:VEVENT
UID:2d6726a9f1e0f112e1fe471a173b81f0
DTSTAMP:20260421T104316Z
SUMMARY:Tančírna
DTSTART;TZID=Europe/Prague:20260427T200000
DTEND;TZID=Europe/Prague:20260427T215200
LOCATION:Bio Central
END:VEVENT
END:VCALENDAR
BEGIN:VCALENDAR
PRODID:-//eluceo/ical//2.0/EN
VERSION:2.0
CALSCALE:GREGORIAN
BEGIN:VEVENT
UID:321cf0ce00bed4a46d87799c7647411c
DTSTAMP:20260421T104316Z
SUMMARY:Tančírna
DTSTART;TZID=Europe/Prague:20260427T200000
DTEND;TZID=Europe/Prague:20260427T215200
LOCATION:Bio Central
END:VEVENT
END:VCALENDAR
